BEGIN:VCALENDAR
VERSION:2.0
PRODID:-//LEO Network//Training Calendar//EN
BEGIN:VEVENT
UID:event-5579@leo-network.com
DTSTAMP:20260422T154941Z
DTSTART:20240717T150000Z
DTEND:20240719T000000Z
SUMMARY:De-escalation: Principles & Practice
DESCRIPTION:Law Enforcement Training
Hosted by: National De-escalation Training Center

View event details:
https://www.leo-network.com/event/de-escalation-principles-practice-st-charles-mo-5579/
LOCATION:St. Charles, MO
URL:https://www.leo-network.com/event/de-escalation-principles-practice-st-charles-mo-5579/
END:VEVENT
END:VCALENDAR
