BEGIN:VCALENDAR
VERSION:2.0
PRODID:-//LEO Network//Training Calendar//EN
BEGIN:VEVENT
UID:event-5588@leo-network.com
DTSTAMP:20260422T172334Z
DTSTART:20240916T150000Z
DTEND:20240918T000000Z
SUMMARY:De-escalation: Principles & Practice
DESCRIPTION:Law Enforcement Training
Hosted by: National De-escalation Training Center

View event details:
https://www.leo-network.com/event/de-escalation-principles-practice-drumright-ok-5588/
LOCATION:Drumright, OK
URL:https://www.leo-network.com/event/de-escalation-principles-practice-drumright-ok-5588/
END:VEVENT
END:VCALENDAR
