BEGIN:VCALENDAR
VERSION:2.0
PRODID:-//LEO Network//Training Calendar//EN
BEGIN:VEVENT
UID:event-5605@leo-network.com
DTSTAMP:20260422T115630Z
DTSTART:20241104T160000Z
DTEND:20241105T010000Z
SUMMARY:Auto Theft & Vehicle Crimes 
DESCRIPTION:Law Enforcement Training
Hosted by: Underworld LLC

View event details:
https://www.leo-network.com/event/auto-theft-vehicle-crimes-medina-oh-5605/
LOCATION:Medina, OH
URL:https://www.leo-network.com/event/auto-theft-vehicle-crimes-medina-oh-5605/
END:VEVENT
END:VCALENDAR
