BEGIN:VCALENDAR
VERSION:2.0
PRODID:-//LEO Network//Training Calendar//EN
BEGIN:VEVENT
UID:event-5615@leo-network.com
DTSTAMP:20260422T190949Z
DTSTART:20241209T160000Z
DTEND:20241210T010000Z
SUMMARY:The Art of Interdiction 
DESCRIPTION:Law Enforcement Training
Hosted by: Justice Academy 

View event details:
https://www.leo-network.com/event/the-art-of-interdiction-roland-ok-5615/
LOCATION:Roland, OK
URL:https://www.leo-network.com/event/the-art-of-interdiction-roland-ok-5615/
END:VEVENT
END:VCALENDAR
