BEGIN:VCALENDAR
VERSION:2.0
PRODID:-//LEO Network//Training Calendar//EN
BEGIN:VEVENT
UID:event-5628@leo-network.com
DTSTAMP:20260422T202327Z
DTSTART:20241209T160000Z
DTEND:20241210T010000Z
SUMMARY:Dissecting Search & Seizure 
DESCRIPTION:Law Enforcement Training
Hosted by: Justice Academy 

View event details:
https://www.leo-network.com/event/dissecting-search-seizure-peachtree-city-ga-5628/
LOCATION:Peachtree City, GA
URL:https://www.leo-network.com/event/dissecting-search-seizure-peachtree-city-ga-5628/
END:VEVENT
END:VCALENDAR
