BEGIN:VCALENDAR
VERSION:2.0
PRODID:-//LEO Network//Training Calendar//EN
BEGIN:VEVENT
UID:event-5641@leo-network.com
DTSTAMP:20260423T113015Z
DTSTART:20241122T160000Z
DTEND:20241123T010000Z
SUMMARY:Mastering Search & Seizure by Blue to Gold
DESCRIPTION:Law Enforcement Training
Hosted by: Blue to Gold Training

View event details:
https://www.leo-network.com/event/mastering-search-seizure-by-blue-to-gold-huntington-wv-5641/
LOCATION:Huntington, WV
URL:https://www.leo-network.com/event/mastering-search-seizure-by-blue-to-gold-huntington-wv-5641/
END:VEVENT
END:VCALENDAR
