BEGIN:VCALENDAR
VERSION:2.0
PRODID:-//LEO Network//Training Calendar//EN
BEGIN:VEVENT
UID:event-5697@leo-network.com
DTSTAMP:20260422T143136Z
DTSTART:20241118T160000Z
DTEND:20241119T010000Z
SUMMARY:Auto Theft & Vehicle Crimes 
DESCRIPTION:Law Enforcement Training
Hosted by: Underworld LLC

View event details:
https://www.leo-network.com/event/auto-theft-vehicle-crimes-galveston-tx-5697/
LOCATION:Galveston, TX
URL:https://www.leo-network.com/event/auto-theft-vehicle-crimes-galveston-tx-5697/
END:VEVENT
END:VCALENDAR
