BEGIN:VCALENDAR
VERSION:2.0
PRODID:-//LEO Network//Training Calendar//EN
BEGIN:VEVENT
UID:event-5704@leo-network.com
DTSTAMP:20260422T173022Z
DTSTART:20241015T150000Z
DTEND:20241016T000000Z
SUMMARY:Fit for Duty
DESCRIPTION:Law Enforcement Training
Hosted by: LEO DEN LLC

View event details:
https://www.leo-network.com/event/fit-for-duty-tahlequah-ok-5704/
LOCATION:Tahlequah, OK
URL:https://www.leo-network.com/event/fit-for-duty-tahlequah-ok-5704/
END:VEVENT
END:VCALENDAR
