BEGIN:VCALENDAR
VERSION:2.0
PRODID:-//LEO Network//Training Calendar//EN
BEGIN:VEVENT
UID:event-5709@leo-network.com
DTSTAMP:20260424T170958Z
DTSTART:20240719T150000Z
DTEND:20240720T000000Z
SUMMARY:1- Day Human Trafficking Training for Active LEO and Prosectors (DDA\'s)
DESCRIPTION:Law Enforcement Training
Hosted by: Stop Human Trafficking Now LLC

View event details:
https://www.leo-network.com/event/1-day-human-trafficking-training-for-active-leo-and-prosectors-dda-s-anaheim-ca-5709/
LOCATION:Anaheim, CA
URL:https://www.leo-network.com/event/1-day-human-trafficking-training-for-active-leo-and-prosectors-dda-s-anaheim-ca-5709/
END:VEVENT
END:VCALENDAR
