BEGIN:VCALENDAR
VERSION:2.0
PRODID:-//LEO Network//Training Calendar//EN
BEGIN:VEVENT
UID:event-5712@leo-network.com
DTSTAMP:20260422T155029Z
DTSTART:20241202T160000Z
DTEND:20241203T010000Z
SUMMARY:Body Language for Law Enforcement
DESCRIPTION:Law Enforcement Training
Hosted by: ONEFACE LLC

View event details:
https://www.leo-network.com/event/body-language-for-law-enforcement-edina-mn-5712/
LOCATION:Edina, MN
URL:https://www.leo-network.com/event/body-language-for-law-enforcement-edina-mn-5712/
END:VEVENT
END:VCALENDAR
