BEGIN:VCALENDAR
VERSION:2.0
PRODID:-//LEO Network//Training Calendar//EN
BEGIN:VEVENT
UID:event-5713@leo-network.com
DTSTAMP:20260422T184739Z
DTSTART:20241209T160000Z
DTEND:20241210T010000Z
SUMMARY:Body Language for Law Enforcement
DESCRIPTION:Law Enforcement Training
Hosted by: ONEFACE LLC

View event details:
https://www.leo-network.com/event/body-language-for-law-enforcement-huntsville-al-5713/
LOCATION:Huntsville, AL
URL:https://www.leo-network.com/event/body-language-for-law-enforcement-huntsville-al-5713/
END:VEVENT
END:VCALENDAR
