BEGIN:VCALENDAR
VERSION:2.0
PRODID:-//LEO Network//Training Calendar//EN
BEGIN:VEVENT
UID:event-5714@leo-network.com
DTSTAMP:20260422T213512Z
DTSTART:20241211T160000Z
DTEND:20241212T010000Z
SUMMARY:Body Language for Law Enforcement
DESCRIPTION:Law Enforcement Training
Hosted by: ONEFACE LLC

View event details:
https://www.leo-network.com/event/body-language-for-law-enforcement-hoover-al-5714/
LOCATION:Hoover, AL
URL:https://www.leo-network.com/event/body-language-for-law-enforcement-hoover-al-5714/
END:VEVENT
END:VCALENDAR
