BEGIN:VCALENDAR
VERSION:2.0
PRODID:-//LEO Network//Training Calendar//EN
BEGIN:VEVENT
UID:event-5716@leo-network.com
DTSTAMP:20260422T171433Z
DTSTART:20241203T160000Z
DTEND:20241204T010000Z
SUMMARY:Recognizing Pre-Attack Indicators
DESCRIPTION:Law Enforcement Training
Hosted by: ONEFACE LLC

View event details:
https://www.leo-network.com/event/recognizing-pre-attack-indicators-edina-mn-5716/
LOCATION:Edina, MN
URL:https://www.leo-network.com/event/recognizing-pre-attack-indicators-edina-mn-5716/
END:VEVENT
END:VCALENDAR
