BEGIN:VCALENDAR
VERSION:2.0
PRODID:-//LEO Network//Training Calendar//EN
BEGIN:VEVENT
UID:event-5717@leo-network.com
DTSTAMP:20260422T202432Z
DTSTART:20241210T160000Z
DTEND:20241211T010000Z
SUMMARY:Recognizing Pre-Attack Indicators
DESCRIPTION:Law Enforcement Training
Hosted by: ONEFACE LLC

View event details:
https://www.leo-network.com/event/recognizing-pre-attack-indicators-huntsville-al-5717/
LOCATION:Huntsville, AL
URL:https://www.leo-network.com/event/recognizing-pre-attack-indicators-huntsville-al-5717/
END:VEVENT
END:VCALENDAR
