BEGIN:VCALENDAR
VERSION:2.0
PRODID:-//LEO Network//Training Calendar//EN
BEGIN:VEVENT
UID:event-5719@leo-network.com
DTSTAMP:20260422T202010Z
DTSTART:20250204T160000Z
DTEND:20250205T010000Z
SUMMARY:Recognizing Pre-Attack Indicators
DESCRIPTION:Law Enforcement Training
Hosted by: ONEFACE LLC

View event details:
https://www.leo-network.com/event/recognizing-pre-attack-indicators-peachtree-city-ga-5719/
LOCATION:Peachtree City, GA
URL:https://www.leo-network.com/event/recognizing-pre-attack-indicators-peachtree-city-ga-5719/
END:VEVENT
END:VCALENDAR
