BEGIN:VCALENDAR
VERSION:2.0
PRODID:-//LEO Network//Training Calendar//EN
BEGIN:VEVENT
UID:event-5721@leo-network.com
DTSTAMP:20260423T052709Z
DTSTART:20250211T160000Z
DTEND:20250212T010000Z
SUMMARY:Recognizing Pre-Attack Indicators
DESCRIPTION:Law Enforcement Training
Hosted by: ONEFACE LLC

View event details:
https://www.leo-network.com/event/recognizing-pre-attack-indicators-auburn-al-5721/
LOCATION:Auburn, AL
URL:https://www.leo-network.com/event/recognizing-pre-attack-indicators-auburn-al-5721/
END:VEVENT
END:VCALENDAR
