BEGIN:VCALENDAR
VERSION:2.0
PRODID:-//LEO Network//Training Calendar//EN
BEGIN:VEVENT
UID:event-5722@leo-network.com
DTSTAMP:20260423T052627Z
DTSTART:20250328T150000Z
DTEND:20250329T000000Z
SUMMARY:Recognizing Pre-Attack Indicators
DESCRIPTION:Law Enforcement Training
Hosted by: ONEFACE LLC

View event details:
https://www.leo-network.com/event/recognizing-pre-attack-indicators-star-city-wv-5722/
LOCATION:Star City, WV
URL:https://www.leo-network.com/event/recognizing-pre-attack-indicators-star-city-wv-5722/
END:VEVENT
END:VCALENDAR
