BEGIN:VCALENDAR
VERSION:2.0
PRODID:-//LEO Network//Training Calendar//EN
BEGIN:VEVENT
UID:event-5723@leo-network.com
DTSTAMP:20260423T052643Z
DTSTART:20250401T150000Z
DTEND:20250402T000000Z
SUMMARY:Recognizing Pre-Attack Indicators
DESCRIPTION:Law Enforcement Training
Hosted by: ONEFACE LLC

View event details:
https://www.leo-network.com/event/recognizing-pre-attack-indicators-dayton-oh-5723/
LOCATION:Dayton, OH
URL:https://www.leo-network.com/event/recognizing-pre-attack-indicators-dayton-oh-5723/
END:VEVENT
END:VCALENDAR
