BEGIN:VCALENDAR
VERSION:2.0
PRODID:-//LEO Network//Training Calendar//EN
BEGIN:VEVENT
UID:event-5726@leo-network.com
DTSTAMP:20260423T054303Z
DTSTART:20250210T160000Z
DTEND:20250211T010000Z
SUMMARY:Body Language for Law Enforcement
DESCRIPTION:Law Enforcement Training
Hosted by: ONEFACE LLC

View event details:
https://www.leo-network.com/event/body-language-for-law-enforcement-auburn-al-5726/
LOCATION:Auburn, AL
URL:https://www.leo-network.com/event/body-language-for-law-enforcement-auburn-al-5726/
END:VEVENT
END:VCALENDAR
