BEGIN:VCALENDAR
VERSION:2.0
PRODID:-//LEO Network//Training Calendar//EN
BEGIN:VEVENT
UID:event-5727@leo-network.com
DTSTAMP:20260423T070147Z
DTSTART:20250327T150000Z
DTEND:20250328T000000Z
SUMMARY:Body Language for Law Enforcement
DESCRIPTION:Law Enforcement Training
Hosted by: ONEFACE LLC

View event details:
https://www.leo-network.com/event/body-language-for-law-enforcement-star-city-wv-5727/
LOCATION:Star City, WV
URL:https://www.leo-network.com/event/body-language-for-law-enforcement-star-city-wv-5727/
END:VEVENT
END:VCALENDAR
