BEGIN:VCALENDAR
VERSION:2.0
PRODID:-//LEO Network//Training Calendar//EN
BEGIN:VEVENT
UID:event-5728@leo-network.com
DTSTAMP:20260423T034921Z
DTSTART:20250331T150000Z
DTEND:20250401T000000Z
SUMMARY:Body Language for Law Enforcement
DESCRIPTION:Law Enforcement Training
Hosted by: ONEFACE LLC

View event details:
https://www.leo-network.com/event/body-language-for-law-enforcement-dayton-oh-5728/
LOCATION:Dayton, OH
URL:https://www.leo-network.com/event/body-language-for-law-enforcement-dayton-oh-5728/
END:VEVENT
END:VCALENDAR
