BEGIN:VCALENDAR
VERSION:2.0
PRODID:-//LEO Network//Training Calendar//EN
BEGIN:VEVENT
UID:event-5729@leo-network.com
DTSTAMP:20260424T170958Z
DTSTART:20240729T150000Z
DTEND:20240801T000000Z
SUMMARY:Advanced Human Trafficking Training for active LEO and Prosecutors
DESCRIPTION:Law Enforcement Training
Hosted by: Stop Human Trafficking Now LLC

View event details:
https://www.leo-network.com/event/advanced-human-trafficking-training-for-active-leo-and-prosecutors-anaheim-ca-5729/
LOCATION:Anaheim, CA
URL:https://www.leo-network.com/event/advanced-human-trafficking-training-for-active-leo-and-prosecutors-anaheim-ca-5729/
END:VEVENT
END:VCALENDAR
