BEGIN:VCALENDAR
VERSION:2.0
PRODID:-//LEO Network//Training Calendar//EN
BEGIN:VEVENT
UID:event-5731@leo-network.com
DTSTAMP:20260424T075542Z
DTSTART:20250211T160000Z
DTEND:20250213T010000Z
SUMMARY:Field Training Officer Certification Course 
DESCRIPTION:Law Enforcement Training
Hosted by: J Harris Academy of Police Training

View event details:
https://www.leo-network.com/event/field-training-officer-certification-course-somerset-nj-5731/
LOCATION:Somerset, NJ
URL:https://www.leo-network.com/event/field-training-officer-certification-course-somerset-nj-5731/
END:VEVENT
END:VCALENDAR
