BEGIN:VCALENDAR
VERSION:2.0
PRODID:-//LEO Network//Training Calendar//EN
BEGIN:VEVENT
UID:event-5732@leo-network.com
DTSTAMP:20260424T080143Z
DTSTART:20250311T150000Z
DTEND:20250312T000000Z
SUMMARY:Narcotics 101: The Foundations of a Successful Investigation
DESCRIPTION:Law Enforcement Training
Hosted by: J Harris Academy of Police Training

View event details:
https://www.leo-network.com/event/narcotics-101-the-foundations-of-a-successful-investigation-somerset-nj-5732/
LOCATION:Somerset, NJ
URL:https://www.leo-network.com/event/narcotics-101-the-foundations-of-a-successful-investigation-somerset-nj-5732/
END:VEVENT
END:VCALENDAR
