BEGIN:VCALENDAR
VERSION:2.0
PRODID:-//LEO Network//Training Calendar//EN
BEGIN:VEVENT
UID:event-5733@leo-network.com
DTSTAMP:20260424T075639Z
DTSTART:20250508T150000Z
DTEND:20250509T000000Z
SUMMARY:Narcotics Enforcement 201: “Next Level” Investigative Techniques
DESCRIPTION:Law Enforcement Training
Hosted by: J Harris Academy of Police Training

View event details:
https://www.leo-network.com/event/narcotics-enforcement-201-next-level-investigative-techniques-somerset-nj-5733/
LOCATION:Somerset, NJ
URL:https://www.leo-network.com/event/narcotics-enforcement-201-next-level-investigative-techniques-somerset-nj-5733/
END:VEVENT
END:VCALENDAR
