BEGIN:VCALENDAR
VERSION:2.0
PRODID:-//LEO Network//Training Calendar//EN
BEGIN:VEVENT
UID:event-5750@leo-network.com
DTSTAMP:20260423T111527Z
DTSTART:20241219T160000Z
DTEND:20241220T010000Z
SUMMARY:Advanced Search & Seizure by Blue to Gold
DESCRIPTION:Law Enforcement Training
Hosted by: Blue to Gold Training

View event details:
https://www.leo-network.com/event/advanced-search-seizure-by-blue-to-gold-wheeling-wv-5750/
LOCATION:Wheeling, WV
URL:https://www.leo-network.com/event/advanced-search-seizure-by-blue-to-gold-wheeling-wv-5750/
END:VEVENT
END:VCALENDAR
