BEGIN:VCALENDAR
VERSION:2.0
PRODID:-//LEO Network//Training Calendar//EN
BEGIN:VEVENT
UID:event-5775@leo-network.com
DTSTAMP:20260424T030238Z
DTSTART:20240924T150000Z
DTEND:20240928T000000Z
SUMMARY:Understanding the Mexican Cartels and Narco Cultura
DESCRIPTION:Law Enforcement Training
Hosted by: The Vigilance Project

View event details:
https://www.leo-network.com/event/understanding-the-mexican-cartels-and-narco-cultura-bernalillo-nm-5775/
LOCATION:Bernalillo, NM
URL:https://www.leo-network.com/event/understanding-the-mexican-cartels-and-narco-cultura-bernalillo-nm-5775/
END:VEVENT
END:VCALENDAR
