BEGIN:VCALENDAR
VERSION:2.0
PRODID:-//LEO Network//Training Calendar//EN
BEGIN:VEVENT
UID:event-5778@leo-network.com
DTSTAMP:20260422T155004Z
DTSTART:20250505T150000Z
DTEND:20250506T000000Z
SUMMARY:Cartel Traps
DESCRIPTION:Law Enforcement Training
Hosted by: Cartel Traps

View event details:
https://www.leo-network.com/event/cartel-traps-philadelphia-pa-5778/
LOCATION:Philadelphia, PA
URL:https://www.leo-network.com/event/cartel-traps-philadelphia-pa-5778/
END:VEVENT
END:VCALENDAR
