BEGIN:VCALENDAR
VERSION:2.0
PRODID:-//LEO Network//Training Calendar//EN
BEGIN:VEVENT
UID:event-5779@leo-network.com
DTSTAMP:20260422T115534Z
DTSTART:20250609T150000Z
DTEND:20250610T000000Z
SUMMARY:Cartel Traps
DESCRIPTION:Law Enforcement Training
Hosted by: Cartel Traps

View event details:
https://www.leo-network.com/event/cartel-traps-cleveland-oh-5779/
LOCATION:Cleveland, OH
URL:https://www.leo-network.com/event/cartel-traps-cleveland-oh-5779/
END:VEVENT
END:VCALENDAR
