BEGIN:VCALENDAR
VERSION:2.0
PRODID:-//LEO Network//Training Calendar//EN
BEGIN:VEVENT
UID:event-5780@leo-network.com
DTSTAMP:20260422T115531Z
DTSTART:20250721T150000Z
DTEND:20250722T000000Z
SUMMARY:Cartel Traps
DESCRIPTION:Law Enforcement Training
Hosted by: Cartel Traps

View event details:
https://www.leo-network.com/event/cartel-traps-o-fallon-mo-5780/
LOCATION:O&#039;Fallon, MO
URL:https://www.leo-network.com/event/cartel-traps-o-fallon-mo-5780/
END:VEVENT
END:VCALENDAR
