BEGIN:VCALENDAR
VERSION:2.0
PRODID:-//LEO Network//Training Calendar//EN
BEGIN:VEVENT
UID:event-5800@leo-network.com
DTSTAMP:20260422T132142Z
DTSTART:20240925T150000Z
DTEND:20240926T000000Z
SUMMARY:Body Language for Law Enforcement
DESCRIPTION:Law Enforcement Training
Hosted by: ONEFACE LLC

View event details:
https://www.leo-network.com/event/body-language-for-law-enforcement-romulus-mi-5800/
LOCATION:Romulus, MI
URL:https://www.leo-network.com/event/body-language-for-law-enforcement-romulus-mi-5800/
END:VEVENT
END:VCALENDAR
