BEGIN:VCALENDAR
VERSION:2.0
PRODID:-//LEO Network//Training Calendar//EN
BEGIN:VEVENT
UID:event-5814@leo-network.com
DTSTAMP:20260423T102522Z
DTSTART:20241113T160000Z
DTEND:20241114T010000Z
SUMMARY:Response to Resistance: The Legal Realities of Use of Force in Modern Policing by Blue to Gold
DESCRIPTION:Law Enforcement Training
Hosted by: Blue to Gold Training

View event details:
https://www.leo-network.com/event/response-to-resistance-the-legal-realities-of-use-of-force-in-modern-policing-by-blue-to-gold-triadelphia-wv-5814/
LOCATION:Triadelphia, WV
URL:https://www.leo-network.com/event/response-to-resistance-the-legal-realities-of-use-of-force-in-modern-policing-by-blue-to-gold-triadelphia-wv-5814/
END:VEVENT
END:VCALENDAR
