BEGIN:VCALENDAR
VERSION:2.0
PRODID:-//LEO Network//Training Calendar//EN
BEGIN:VEVENT
UID:event-5816@leo-network.com
DTSTAMP:20260423T102545Z
DTSTART:20241114T160000Z
DTEND:20241115T010000Z
SUMMARY:Duty to Intervene by Blue to Gold
DESCRIPTION:Law Enforcement Training
Hosted by: Blue to Gold Training

View event details:
https://www.leo-network.com/event/duty-to-intervene-by-blue-to-gold-triadelphia-wv-5816/
LOCATION:Triadelphia, WV
URL:https://www.leo-network.com/event/duty-to-intervene-by-blue-to-gold-triadelphia-wv-5816/
END:VEVENT
END:VCALENDAR
