BEGIN:VCALENDAR
VERSION:2.0
PRODID:-//LEO Network//Training Calendar//EN
BEGIN:VEVENT
UID:event-5820@leo-network.com
DTSTAMP:20260422T161450Z
DTSTART:20250319T150000Z
DTEND:20250320T000000Z
SUMMARY:Advanced Criminal Investigations by Blue to Gold
DESCRIPTION:Law Enforcement Training
Hosted by: Blue to Gold Training

View event details:
https://www.leo-network.com/event/advanced-criminal-investigations-by-blue-to-gold-leavenworth-ks-5820/
LOCATION:Leavenworth, KS
URL:https://www.leo-network.com/event/advanced-criminal-investigations-by-blue-to-gold-leavenworth-ks-5820/
END:VEVENT
END:VCALENDAR
