BEGIN:VCALENDAR
VERSION:2.0
PRODID:-//LEO Network//Training Calendar//EN
BEGIN:VEVENT
UID:event-5821@leo-network.com
DTSTAMP:20260422T161502Z
DTSTART:20250320T150000Z
DTEND:20250321T000000Z
SUMMARY:Interview and interrogation case law by Blue to Gold
DESCRIPTION:Law Enforcement Training
Hosted by: Blue to Gold Training

View event details:
https://www.leo-network.com/event/interview-and-interrogation-case-law-by-blue-to-gold-leavenworth-ks-5821/
LOCATION:Leavenworth, KS
URL:https://www.leo-network.com/event/interview-and-interrogation-case-law-by-blue-to-gold-leavenworth-ks-5821/
END:VEVENT
END:VCALENDAR
