BEGIN:VCALENDAR
VERSION:2.0
PRODID:-//LEO Network//Training Calendar//EN
BEGIN:VEVENT
UID:event-5824@leo-network.com
DTSTAMP:20260422T161450Z
DTSTART:20250603T150000Z
DTEND:20250604T000000Z
SUMMARY:Advanced Search & Seizure by Blue to Gold
DESCRIPTION:Law Enforcement Training
Hosted by: Blue to Gold Training

View event details:
https://www.leo-network.com/event/advanced-search-seizure-by-blue-to-gold-gardner-ks-5824/
LOCATION:Gardner, KS
URL:https://www.leo-network.com/event/advanced-search-seizure-by-blue-to-gold-gardner-ks-5824/
END:VEVENT
END:VCALENDAR
