BEGIN:VCALENDAR
VERSION:2.0
PRODID:-//LEO Network//Training Calendar//EN
BEGIN:VEVENT
UID:event-5826@leo-network.com
DTSTAMP:20260422T155638Z
DTSTART:20250605T150000Z
DTEND:20250606T000000Z
SUMMARY:Bulletproof Report Writing by Blue to Gold
DESCRIPTION:Law Enforcement Training
Hosted by: Blue to Gold Training

View event details:
https://www.leo-network.com/event/bulletproof-report-writing-by-blue-to-gold-gardner-ks-5826/
LOCATION:Gardner, KS
URL:https://www.leo-network.com/event/bulletproof-report-writing-by-blue-to-gold-gardner-ks-5826/
END:VEVENT
END:VCALENDAR
