BEGIN:VCALENDAR
VERSION:2.0
PRODID:-//LEO Network//Training Calendar//EN
BEGIN:VEVENT
UID:event-5827@leo-network.com
DTSTAMP:20260422T155638Z
DTSTART:20250923T150000Z
DTEND:20250924T000000Z
SUMMARY:Emerging Legal Trends by Blue to Gold
DESCRIPTION:Law Enforcement Training
Hosted by: Blue to Gold Training

View event details:
https://www.leo-network.com/event/emerging-legal-trends-by-blue-to-gold-gardner-ks-5827/
LOCATION:Gardner, KS
URL:https://www.leo-network.com/event/emerging-legal-trends-by-blue-to-gold-gardner-ks-5827/
END:VEVENT
END:VCALENDAR
