BEGIN:VCALENDAR
VERSION:2.0
PRODID:-//LEO Network//Training Calendar//EN
BEGIN:VEVENT
UID:event-5828@leo-network.com
DTSTAMP:20260422T155004Z
DTSTART:20250924T150000Z
DTEND:20250925T000000Z
SUMMARY:Interview and Interrogation Case Law by Blue to Gold
DESCRIPTION:Law Enforcement Training
Hosted by: Blue to Gold Training

View event details:
https://www.leo-network.com/event/interview-and-interrogation-case-law-by-blue-to-gold-gardner-ks-5828/
LOCATION:Gardner, KS
URL:https://www.leo-network.com/event/interview-and-interrogation-case-law-by-blue-to-gold-gardner-ks-5828/
END:VEVENT
END:VCALENDAR
