BEGIN:VCALENDAR
VERSION:2.0
PRODID:-//LEO Network//Training Calendar//EN
BEGIN:VEVENT
UID:event-5829@leo-network.com
DTSTAMP:20260422T155003Z
DTSTART:20250925T150000Z
DTEND:20250926T000000Z
SUMMARY:Real World De-Escalation by Blue to Gold
DESCRIPTION:Law Enforcement Training
Hosted by: Blue to Gold Training

View event details:
https://www.leo-network.com/event/real-world-de-escalation-by-blue-to-gold-gardner-ks-5829/
LOCATION:Gardner, KS
URL:https://www.leo-network.com/event/real-world-de-escalation-by-blue-to-gold-gardner-ks-5829/
END:VEVENT
END:VCALENDAR
