BEGIN:VCALENDAR
VERSION:2.0
PRODID:-//LEO Network//Training Calendar//EN
BEGIN:VEVENT
UID:event-5831@leo-network.com
DTSTAMP:20260422T155719Z
DTSTART:20241112T160000Z
DTEND:20241113T010000Z
SUMMARY:Advanced Search & Seizure by Blue to Gold
DESCRIPTION:Law Enforcement Training
Hosted by: Blue to Gold Training

View event details:
https://www.leo-network.com/event/advanced-search-seizure-by-blue-to-gold-wichita-ks-5831/
LOCATION:Wichita, KS
URL:https://www.leo-network.com/event/advanced-search-seizure-by-blue-to-gold-wichita-ks-5831/
END:VEVENT
END:VCALENDAR
