BEGIN:VCALENDAR
VERSION:2.0
PRODID:-//LEO Network//Training Calendar//EN
BEGIN:VEVENT
UID:event-5832@leo-network.com
DTSTAMP:20260422T155531Z
DTSTART:20241113T160000Z
DTEND:20241114T010000Z
SUMMARY:Advanced Traffic Stops by Blue to Gold
DESCRIPTION:Law Enforcement Training
Hosted by: Blue to Gold Training

View event details:
https://www.leo-network.com/event/advanced-traffic-stops-by-blue-to-gold-wichita-ks-5832/
LOCATION:Wichita, KS
URL:https://www.leo-network.com/event/advanced-traffic-stops-by-blue-to-gold-wichita-ks-5832/
END:VEVENT
END:VCALENDAR
