BEGIN:VCALENDAR
VERSION:2.0
PRODID:-//LEO Network//Training Calendar//EN
BEGIN:VEVENT
UID:event-5833@leo-network.com
DTSTAMP:20260422T155527Z
DTSTART:20241114T160000Z
DTEND:20241115T010000Z
SUMMARY:Bulletproof Report Writing by Blue to Gold
DESCRIPTION:Law Enforcement Training
Hosted by: Blue to Gold Training

View event details:
https://www.leo-network.com/event/bulletproof-report-writing-by-blue-to-gold-wichita-ks-5833/
LOCATION:Wichita, KS
URL:https://www.leo-network.com/event/bulletproof-report-writing-by-blue-to-gold-wichita-ks-5833/
END:VEVENT
END:VCALENDAR
