BEGIN:VCALENDAR
VERSION:2.0
PRODID:-//LEO Network//Training Calendar//EN
BEGIN:VEVENT
UID:event-5837@leo-network.com
DTSTAMP:20260421T082919Z
DTSTART:20240709T150000Z
DTEND:20240718T000000Z
SUMMARY:Breaking Barriers and Blazing a Path: Growing Women Law Enforcement Professionals
DESCRIPTION:Law Enforcement Training
Hosted by: Justice Clearinghouse

View event details:
https://www.leo-network.com/event/breaking-barriers-and-blazing-a-path-growing-women-law-enforcement-professionals-online-5837/
LOCATION:NA, NA
URL:https://www.leo-network.com/event/breaking-barriers-and-blazing-a-path-growing-women-law-enforcement-professionals-online-5837/
END:VEVENT
END:VCALENDAR
