BEGIN:VCALENDAR
VERSION:2.0
PRODID:-//LEO Network//Training Calendar//EN
BEGIN:VEVENT
UID:event-5856@leo-network.com
DTSTAMP:20260422T173102Z
DTSTART:20240724T150000Z
DTEND:20240726T000000Z
SUMMARY:Unlocking Crime Scenes: Expert Training in Analysis & Reconstruction  
DESCRIPTION:Law Enforcement Training
Hosted by: Cold Case Foundation

View event details:
https://www.leo-network.com/event/unlocking-crime-scenes-expert-training-in-analysis-reconstruction-ada-ok-5856/
LOCATION:Ada, OK
URL:https://www.leo-network.com/event/unlocking-crime-scenes-expert-training-in-analysis-reconstruction-ada-ok-5856/
END:VEVENT
END:VCALENDAR
