BEGIN:VCALENDAR
VERSION:2.0
PRODID:-//LEO Network//Training Calendar//EN
BEGIN:VEVENT
UID:event-5932@leo-network.com
DTSTAMP:20260423T022822Z
DTSTART:20250206T160000Z
DTEND:20250207T010000Z
SUMMARY:Body Language for Law Enforcement
DESCRIPTION:Law Enforcement Training
Hosted by: ONEFACE LLC

View event details:
https://www.leo-network.com/event/body-language-for-law-enforcement-pass-christian-ms-5932/
LOCATION:Pass Christian, MS
URL:https://www.leo-network.com/event/body-language-for-law-enforcement-pass-christian-ms-5932/
END:VEVENT
END:VCALENDAR
