BEGIN:VCALENDAR
VERSION:2.0
PRODID:-//LEO Network//Training Calendar//EN
BEGIN:VEVENT
UID:event-5953@leo-network.com
DTSTAMP:20260422T231140Z
DTSTART:20240919T150000Z
DTEND:20240921T000000Z
SUMMARY:Fire Death/Fatality Scene Investigation by LLRMI
DESCRIPTION:Law Enforcement Training
Hosted by: Legal and Liability Risk Management Institute

View event details:
https://www.leo-network.com/event/fire-death-fatality-scene-investigation-by-llrmi-abington-pa-5953/
LOCATION:Abington, PA
URL:https://www.leo-network.com/event/fire-death-fatality-scene-investigation-by-llrmi-abington-pa-5953/
END:VEVENT
END:VCALENDAR
