BEGIN:VCALENDAR
VERSION:2.0
PRODID:-//LEO Network//Training Calendar//EN
BEGIN:VEVENT
UID:event-5963@leo-network.com
DTSTAMP:20260423T062600Z
DTSTART:20241111T160000Z
DTEND:20241116T010000Z
SUMMARY:Homicide and Death Investigation Conference by LLRMI
DESCRIPTION:Law Enforcement Training
Hosted by: Legal and Liability Risk Management Institute

View event details:
https://www.leo-network.com/event/homicide-and-death-investigation-conference-by-llrmi-gatlinburg-tn-5963/
LOCATION:Gatlinburg, TN
URL:https://www.leo-network.com/event/homicide-and-death-investigation-conference-by-llrmi-gatlinburg-tn-5963/
END:VEVENT
END:VCALENDAR
