BEGIN:VCALENDAR
VERSION:2.0
PRODID:-//LEO Network//Training Calendar//EN
BEGIN:VEVENT
UID:event-5964@leo-network.com
DTSTAMP:20260423T061206Z
DTSTART:20241112T160000Z
DTEND:20241115T010000Z
SUMMARY:Liability Management for Tactical, SWAT & Emergency Response by LLRMI
DESCRIPTION:Law Enforcement Training
Hosted by: Legal and Liability Risk Management Institute

View event details:
https://www.leo-network.com/event/liability-management-for-tactical-swat-emergency-response-by-llrmi-gatlinburg-tn-5964/
LOCATION:Gatlinburg, TN
URL:https://www.leo-network.com/event/liability-management-for-tactical-swat-emergency-response-by-llrmi-gatlinburg-tn-5964/
END:VEVENT
END:VCALENDAR
