BEGIN:VCALENDAR
VERSION:2.0
PRODID:-//LEO Network//Training Calendar//EN
BEGIN:VEVENT
UID:event-5973@leo-network.com
DTSTAMP:20260422T144508Z
DTSTART:20240924T150000Z
DTEND:20240925T000000Z
SUMMARY:The Illicit Fentanyl Crisis and Drug Poisonings: Understanding, Awareness, Action
DESCRIPTION:Law Enforcement Training
Hosted by: Eagle 6 Training

View event details:
https://www.leo-network.com/event/the-illicit-fentanyl-crisis-and-drug-poisonings-understanding-awareness-action-bismarck-nd-5973/
LOCATION:Bismarck, ND
URL:https://www.leo-network.com/event/the-illicit-fentanyl-crisis-and-drug-poisonings-understanding-awareness-action-bismarck-nd-5973/
END:VEVENT
END:VCALENDAR
